BEGIN:VCALENDAR
VERSION:2.0
CALSCALE:GREGORIAN
BEGIN:VEVENT
SUMMARY:Mittelstufe Kurs im Glockenbachviertel
DTSTART;TZID=Europe/Berlin:20260417T190000
DTEND;TZID=Europe/Berlin:20260417T203000
LOCATION:fraunhoferstr. 27A\, 80469 München\, DE
DESCRIPTION:Struktur für Giros: wie schaffen wir es den Platz vom Follower einzunehmen? (sacada)
STATUS:CONFIRMED
ORGANIZER:mailto:infotangoconnection@gmail.com
SEQUENCE:3
BEGIN:VALARM
TRIGGER:-PT120M
ACTION:DISPLAY
END:VALARM
END:VEVENT
END:VCALENDAR
