BEGIN:VCALENDAR
VERSION:2.0
CALSCALE:GREGORIAN
BEGIN:VEVENT
SUMMARY:dna-Tango Kurse vor Milonga 
DTSTART;TZID=Europe/Berlin:20260604T190000
DTEND;TZID=Europe/Berlin:20260604T213000
LOCATION:Steinerstr. 7-9\, 81369 München\, DE
DESCRIPTION:Special Week mit Angela Meléndez \n19.00 - 20.15 Vals\n20.15 - 21.30 Mittleres bis Fortgeschrittenes Niveau\nmit Ese\n\n
STATUS:CONFIRMED
ORGANIZER:mailto:dnatango@dnatango.com
SEQUENCE:3
BEGIN:VALARM
TRIGGER:-PT120M
ACTION:DISPLAY
END:VALARM
END:VEVENT
END:VCALENDAR
