BEGIN:VCALENDAR
VERSION:2.0
CALSCALE:GREGORIAN
BEGIN:VEVENT
SUMMARY:OPEN-AIR-Milonga en Vivo
DTSTART;TZID=Europe/Berlin:20250718T190000
DTEND;TZID=Europe/Berlin:20250718T220000
LOCATION:Hallstraße\, 85049 Ingolstadt\, DE
DESCRIPTION:mit &quot;Don Sampo y La Vartuli&quot;
STATUS:CONFIRMED
ORGANIZER:mailto:info@IN-Tango.de
SEQUENCE:3
BEGIN:VALARM
TRIGGER:-PT120M
ACTION:DISPLAY
END:VALARM
END:VEVENT
END:VCALENDAR
