BEGIN:VCALENDAR
VERSION:2.0
CALSCALE:GREGORIAN
BEGIN:VEVENT
SUMMARY:Kurs Fortgeschrittene 2
DTSTART;TZID=Europe/Berlin:20240307T203000
DTEND;TZID=Europe/Berlin:20240307T220000
LOCATION:Neumarkter Straße 71\, 81673 München\, DE
DESCRIPTION:Kurs F 2 im La Lunita Tangoloft\nVoraussetzung 5 Jahre intensive Tanzerfahrung\nImprovisation und komplexe Sequenzen\nTango\, Vals &amp; Milonga \n
STATUS:CONFIRMED
ORGANIZER:mailto:info@tango-maldito.de
SEQUENCE:3
BEGIN:VALARM
TRIGGER:-PT120M
ACTION:DISPLAY
END:VALARM
END:VEVENT
END:VCALENDAR
