BEGIN:VCALENDAR
VERSION:2.0
CALSCALE:GREGORIAN
BEGIN:VEVENT
SUMMARY:Neolonga mit Contango-Miniworkshop
DTSTART;TZID=Europe/Berlin:20260310T201500
DTEND;TZID=Europe/Berlin:20260310T224500
LOCATION:Euckenstr. 15\,  München\, DE
DESCRIPTION:Contango vereint die sinnliche Eleganz vom Tango mit der spielerischen Freiheit der Contact Improvisation und freiem tänzerischen Ausdruck.
STATUS:CONFIRMED
ORGANIZER:mailto:info@contango.eu
SEQUENCE:3
BEGIN:VALARM
TRIGGER:-PT120M
ACTION:DISPLAY
END:VALARM
END:VEVENT
END:VCALENDAR
