BEGIN:VCALENDAR
VERSION:2.0
CALSCALE:GREGORIAN
BEGIN:VEVENT
SUMMARY:&quot;La ESCONDIDA&quot;
DTSTART;TZID=Europe/Berlin:20260422T204500
DTEND;TZID=Europe/Berlin:20260422T000000
LOCATION:Fechtgasse 6\, 85049 Ingolstadt\, DE
DESCRIPTION:die Mittwochs-Milonga in Ingolstadt
STATUS:CONFIRMED
ORGANIZER:mailto:info@IN-Tango.de
SEQUENCE:3
BEGIN:VALARM
TRIGGER:-PT120M
ACTION:DISPLAY
END:VALARM
END:VEVENT
END:VCALENDAR
