BEGIN:VCALENDAR
VERSION:2.0
CALSCALE:GREGORIAN
BEGIN:VEVENT
SUMMARY:Kurs Anfänger
DTSTART;TZID=Europe/Berlin:20231129T190000
DTEND;TZID=Europe/Berlin:20231129T203000
LOCATION:Neumarkter Straße 71\, 81673 München\, DE
DESCRIPTION:Kurs A  Anfänger mit Vorkenntnissen\nim La Lunita Tangoloft\nHaltung\, Umarmung\, Kontakt\, Gehen\, Ochos\, kleine Drehungen
STATUS:CONFIRMED
ORGANIZER:mailto:info@tango-maldito.de
SEQUENCE:3
BEGIN:VALARM
TRIGGER:-PT120M
ACTION:DISPLAY
END:VALARM
END:VEVENT
END:VCALENDAR
