BEGIN:VCALENDAR
VERSION:2.0
CALSCALE:GREGORIAN
BEGIN:VEVENT
SUMMARY:MORENA\, Gustavos Geburtstag
DTSTART;TZID=Europe/Berlin:20250524T200000
DTEND;TZID=Europe/Berlin:20250524T235900
LOCATION:Friedrich-Ebert-Straße 12 \, 85540 Haar \, DE
DESCRIPTION:Wir feiern Gustavos Geburtstag!\nDJ Marino sorgt mit seinen Schallplatten für eine wundervollen Abend.
STATUS:CONFIRMED
ORGANIZER:mailto:info@vivetango.de
SEQUENCE:3
BEGIN:VALARM
TRIGGER:-PT120M
ACTION:DISPLAY
END:VALARM
END:VEVENT
END:VCALENDAR
