BEGIN:VCALENDAR
VERSION:2.0
CALSCALE:GREGORIAN
BEGIN:VEVENT
SUMMARY:POEMA milonga - Munich City center.
DTSTART;TZID=Europe/Berlin:20260620T193000
DTEND;TZID=Europe/Berlin:20260620T010000
LOCATION:Westenriederstraße 41\, 80331 Munich\, DE
DESCRIPTION:Schöne Traditional Milonga in München Zentrum. Beste atmosphere zum Tanzen und Tango Argentino zu genießen. Good Vibes Good Tango
STATUS:CONFIRMED
ORGANIZER:mailto:flaviacristango@gmail.com
SEQUENCE:3
BEGIN:VALARM
TRIGGER:-PT120M
ACTION:DISPLAY
END:VALARM
END:VEVENT
END:VCALENDAR
