BEGIN:VCALENDAR
VERSION:2.0
CALSCALE:GREGORIAN
BEGIN:VEVENT
SUMMARY:Geburtstagsmilonga SUR DJ Baki
DTSTART;TZID=Europe/Berlin:20250615T193000
DTEND;TZID=Europe/Berlin:20250615T233000
LOCATION:Engelhardstr. 26-28\, 81369 München-Sendling\, DE
DESCRIPTION:18-19 Uhr Open Class Open Level mit Susanne \n19:30-23:30 Milonga DJ Baki - Susanne hat Geburtstag und alle feiern mit!\nTanzt du in der gepflegten Ronda? Dann ist das Sur der richtige Ort!
STATUS:CONFIRMED
ORGANIZER:mailto:tango-sur@gmx.de
SEQUENCE:3
BEGIN:VALARM
TRIGGER:-PT120M
ACTION:DISPLAY
END:VALARM
END:VEVENT
END:VCALENDAR
