BEGIN:VCALENDAR
VERSION:2.0
CALSCALE:GREGORIAN
BEGIN:VEVENT
SUMMARY:Milonga Bella Vida
DTSTART;TZID=Europe/Berlin:20260314T200000
DTEND;TZID=Europe/Berlin:20260314T010000
LOCATION:Oskar-Maria-Graf-Straße 2\, 82178 Puchheim\, DE
DESCRIPTION:Orchestra ImprovisTango // DJ Manuel Cruz Vila - Tango on Vinyl // Tangostyle LaLucila\nA truly special experience that brings warmth\, depth\, and a touch of nostalgia to the dance floor.
STATUS:CONFIRMED
ORGANIZER:mailto:info@tangobellavida.de
SEQUENCE:3
BEGIN:VALARM
TRIGGER:-PT120M
ACTION:DISPLAY
END:VALARM
END:VEVENT
END:VCALENDAR
