BEGIN:VCALENDAR
VERSION:2.0
CALSCALE:GREGORIAN
BEGIN:VEVENT
SUMMARY:VALS Workshop
DTSTART;TZID=Europe/Berlin:20260306T190000
DTEND;TZID=Europe/Berlin:20260306T200000
LOCATION:Orleanstrasse 51\, 81667 München\, DE
DESCRIPTION:Ganz viel Spaß haben mit VALS - der einzigartige VALS Workshop mit dem berühmt berüchtigten instant ERFOLG - welcome!
STATUS:CONFIRMED
ORGANIZER:mailto:info@tango-lugo.de
SEQUENCE:3
BEGIN:VALARM
TRIGGER:-PT120M
ACTION:DISPLAY
END:VALARM
END:VEVENT
END:VCALENDAR
